BEGIN:VCALENDAR
VERSION:2.0
PRODID:-//Haus und Grund - ECPv4.9.13//NONSGML v1.0//EN
CALSCALE:GREGORIAN
METHOD:PUBLISH
X-WR-CALNAME:Haus und Grund
X-ORIGINAL-URL:https://hug-rsh.de
X-WR-CALDESC:Veranstaltungen im Haus und Grund
BEGIN:VTIMEZONE
TZID:Europe/Berlin
BEGIN:DAYLIGHT
TZOFFSETFROM:+0100
TZOFFSETTO:+0200
TZNAME:CEST
DTSTART:20190331T010000
END:DAYLIGHT
BEGIN:STANDARD
TZOFFSETFROM:+0200
TZOFFSETTO:+0100
TZNAME:CET
DTSTART:20191027T010000
END:STANDARD
END:VTIMEZONE
BEGIN:VEVENT
DTSTART;VALUE=DATE:20190518
DTEND;VALUE=DATE:20190519
DTSTAMP:20260423T082638
CREATED:20190307T074951Z
LAST-MODIFIED:20190503T065246Z
UID:869-1558137600-1558223999@hug-rsh.de
SUMMARY:Jahresausflug mit dem Bus nach Steinfeld und Bad Bergzabern
DESCRIPTION:Steinfeld und Bad Bergzabern sind die Ziele des diesjährigen Haus-und-Grund Jahresausflug am Samstag\, 18. Mai 2019. \nEingebettet in der sonnenverwöhnten Natur der Südlichen Weinstraße lassen wir uns am Vormittag ein ganz besonderes Fleckchen Erde von fachkundiger Hand zeigen: \nDas Kakteenland Steinfeld mit seinem exotischen Flair tausender tropischer Pflanzen und Kakteen in all ihrer Farbenpracht. \nNach dem Mittagessen begeben wir uns ins benachbarte Bad Bergzabern. Zwischen Pfälzer Wald und Reben\, umgeben von schmucken Wein- und Walddörfern\, nennt sich das malerische Kurstädtchen mit historischem Stadtbild\, einem prächtigen Schloss und idyllischen Parkanlagen ein „Garten Eden in der Südpfalz“ oder auch „Kultstädtchen mit Lebensfreude“ Wir lassen uns von Gästeführerinnen durch die verwinkelte Altstadt führen und werfen einen Blick auf alte Patrizier Häuser mit ihren schmucken Giebeln und Erkern. \nKosten einschließlich zwei Führungen pro Person 25 €. \nAbfahrt Hockenheim 9 Uhr Pestalozzischule Volksbank Abfahrt Schwetzingen 9:15 Uhr neuer Messplatz. \n  \nAnmeldung unter 06205 17504 oder 06202 127 4817\n  \n\nProgramm\nAbfahrt: 9:00 Uhr in Hockenheim\, Parkstraße/Volksbank/Pestalozzischule  \n9:15 Uhr in Schwetzingen\, Neuer Messplatz  \nAnkunft: ca. 10:45 Uhr in Kakteenland Steinfeld\,  \nFührung Kakteenland Steinfeld: Beginn 11:00 Uhr (mit 2 Gruppen) \nEnde ca. 12:00 Uhr \nAbfahrt: ca. 12:30 Uhr Fahrt nach Dörrenbach  \nMittagessen: ab 13:00 Uhr Mittagessen im Restaurant „Keschtehäusel“ \nNachmittag: 14:30 Uhr Weiterfahrt nach Bad Bergzabern  \nStadtrundgang: 15:00 Uhr „Stadtrundgang“ mit 2 Gästeführerinnen \nRückfahrt: 17:00 Uhr \nAnkunft: gegen 18:15 Uhr in Schwetzingen und ca. 18:45 Uhr in Hockenheim \n
URL:https://hug-rsh.de/event/jahresausflug-mit-dem-bus-nach-steinfeld-und-bad-bergzabern/
LOCATION:Bad Bergzabern\, Bad Bergzabern\, Deutschland
END:VEVENT
END:VCALENDAR