BEGIN:VCALENDAR
VERSION:2.0
PRODID:-//Haus und Grund - ECPv4.9.13//NONSGML v1.0//EN
CALSCALE:GREGORIAN
METHOD:PUBLISH
X-WR-CALNAME:Haus und Grund
X-ORIGINAL-URL:https://hug-rsh.de
X-WR-CALDESC:Veranstaltungen im Haus und Grund
BEGIN:VTIMEZONE
TZID:Europe/Berlin
BEGIN:DAYLIGHT
TZOFFSETFROM:+0100
TZOFFSETTO:+0200
TZNAME:CEST
DTSTART:20200329T010000
END:DAYLIGHT
BEGIN:STANDARD
TZOFFSETFROM:+0200
TZOFFSETTO:+0100
TZNAME:CET
DTSTART:20201025T010000
END:STANDARD
END:VTIMEZONE
BEGIN:VEVENT
DTSTART;TZID=Europe/Berlin:20200219T180000
DTEND;TZID=Europe/Berlin:20200219T200000
DTSTAMP:20260423T095716
CREATED:20191122T122208Z
LAST-MODIFIED:20200303T073517Z
UID:1149-1582135200-1582142400@hug-rsh.de
SUMMARY:Haus & Grund Praxis-Seminare für Vermieter: „Betriebskostenabrechnung – das muss man als Vermieter beachten!“
DESCRIPTION:Haus & Grund Region Schwetzingen-Hockenheim bietet allen Vermietern und Eigentümern die Möglichkeit\, ihr bisheriges Wissen zu besonderen Themen und Sachverhalten in Seminaren zu erweitern. Im Mittelpunkt stehen Standardsituationen\, mit denen sich Vermieter und Immobilieneigentümer immer wieder konfrontiert sehen und bei denen die Fehlerquellen erfahrungsgemäß hoch sind. \nDie Seminare finden in kleinen Gruppen von maximal 20 Teilnehmern statt\, so dass Gelegenheit bleibt\, Fragen zu stellen und mit anderen Teilnehmern ins Gespräch zu kommen.  \n  \n\n  \nFachanwalt Wolfgang Reineke \nDie Abrechnung der „Nebenkosten“ ist eine Pflicht\, an der kein Vermieter vorbeikommt. Aber bei kaum einem anderen Vorgang können Vermieter alles richtig oder vieles falsch machen und außerdem Geld verschenken. Es gibt sehr viele rechtliche Fallstricke und selbst kleinste Formfehler können einem teuer zu stehen kommen! Besser ist es\, wenn man sich hinsichtlich der Rechtslage vorher absichert! \nDer Verein weiß um die Problematik dieses schwierigen und risikobehafteten Themenkomplexes und bietet den Seminarteilnehmern (auch Nichtmitgliedern) Gelegenheit\, sich hierüber von kompetenter Seite ausführlich instruieren und informieren zu lassen. \nDas von Fachanwalt Wolfgang Reineke geleitete Praxis-Seminar beleuchtet den ganzen Ablauf von Beginn an\, so dass man künftig auf der sicheren Seite ist. \nEs umfasst: \n\n\n\n\n\nRichtige Vertragsformulierungen\nDie einzelne Positionen der Betriebskosten\nGenaue Erläuterung der Posten\nUmlagefähige Kosten\nAbrechnungszeitraum\nFristen\nFormalitäten\nVorauszahlung\nMusterabrechnung\nErläuterung der Fehlerquellen\nMusterbeispiele der Rechtsprechung\n\n\n\n\nChecklisten\nTipps und Hinweise\n\n\n\n  \nDie Seminargebühr ist für Mitglieder 60 Euro\, für Nichtmitglieder 75 Euro (Seminarunterlagen sowie Erfrischungsgetränke sind im Preis inbegriffen) \n  \n\nPressebericht zum Praxis-Seminar „Betriebskostenabrechnung – das müssen Vermieter beachten“ \n \n
URL:https://hug-rsh.de/event/vermieter-seminar/
LOCATION:Weldebräu Stammhaus\, Mannheimer Straße 2A\, Schwetzingen\, 68723\, Deutschland
CATEGORIES:Seminar
ATTACH;FMTTYPE=image/jpeg:https://hug-rsh.de/wp-content/uploads/2017/01/11-Content.jpg
END:VEVENT
END:VCALENDAR